BEGIN:VCALENDAR
VERSION:2.0
PRODID:-//ChamberMaster//Event Calendar 2.0//EN
METHOD:PUBLISH
X-PUBLISHED-TTL:P3D
REFRESH-INTERVAL:P3D
CALSCALE:GREGORIAN
BEGIN:VEVENT
DTSTART:20260916T130000Z
DTEND:20260918T143000Z
X-MICROSOFT-CDO-ALLDAYEVENT:FALSE
SUMMARY:2026 New York State Tourism Summit & Awards
DESCRIPTION:DRAFT Agenda Outline*:\nWednesday\, September 16\, 2026: Pre-Summit Activities \n\n10:00 AM to 4:30 PM -\n\n\n	Charlie Daley / Dave Thornton Scholarship Golf Tournament\n	Advocacy Master Class with the New York Sherpa\n	Travel Trade Sales & Marketing \n	Experiential: Make Your Own Glass at the Corning Museum of Glass\n\n\n        5:30 PM - Welcome Reception & Team Building Activities\n\n\n\nThursday\, September 17\, 2026: Tourism Excellence Summit & Awards\n\n        7:30 AM to 9:00 AM - Breakfast Program\n\n        9:00 AM to 9:45 AM - Keynote Remarks\n\n        10:00 AM to 11:45 AM - Best Practice Workshops\n\n        12:00 PM - 1:45 PM - Luncheon Program \n\n        2:00 PM - 4:00 PM - 1:1 Networking Sessions and 10x10 Briefings\n\n        4:00 PM - 4:45 PM - Advocacy Briefing\n\n        6:00 PM to 8:30 PM - Tourism Excellence Awards Reception/Banquet\n\n\n\nFriday\, September 18\, 2026\n\n        7:30 AM to 9:00 AM - Breakfast Program\n\n        9:00 AM to 9:55 AM - Industry Updates\n\n        10:00 AM to 10:30 AM - Closing Remarks\n\n        10:30 AM: Adjournment \n\n* subject to change
X-ALT-DESC;FMTTYPE=text/html:<strong><span style="color:#FF0000\;">DRAFT</span> Agenda Outline*:</strong>\n<p><span style="font-size: 14px\;"><strong>Wednesday\, September 16\, 2026: Pre-Summit Activities&nbsp\;<br />\n10:00 AM to 4:30 PM -</strong></span></p>\n\n<ul>\n	<li><span style="font-size:12px\;"><span style="font-family:arial\;">Charlie Daley / Dave Thornton Scholarship&nbsp\;Golf Tournament</span></span></li>\n	<li><span style="font-size:12px\;"><span style="font-family:arial\;">Advocacy Master Class with the New York Sherpa</span></span></li>\n	<li><span style="font-size:12px\;"><span style="font-family:arial\;">Travel Trade Sales &amp\; Marketing&nbsp\;</span></span></li>\n	<li><span style="font-size:12px\;"><span style="font-family:arial\;">Experiential: Make Your Own Glass at the Corning Museum of Glass</span></span></li>\n</ul>\n\n<p><span style="font-size: 14px\;">&nbsp\;<em><strong>&nbsp\;&nbsp\;&nbsp\;&nbsp\; &nbsp\; 5:30 PM - Welcome Reception &amp\; Team Building Activities</strong></em><br />\n<br />\n<strong>Thursday\, September 17\, 2026: Tourism Excellence Summit &amp\; Awards</strong><br />\n&nbsp\;&nbsp\;&nbsp\;&nbsp\;&nbsp\; &nbsp\; 7:30 AM to 9:00 AM - Breakfast Program<br />\n&nbsp\;&nbsp\;&nbsp\;&nbsp\;&nbsp\; &nbsp\; 9:00 AM to 9:45 AM - Keynote Remarks<br />\n&nbsp\;&nbsp\;&nbsp\;&nbsp\;&nbsp\; &nbsp\; 10:00 AM to 11:45 AM - Best Practice Workshops<br />\n&nbsp\;&nbsp\;&nbsp\;&nbsp\;&nbsp\; &nbsp\; 12:00 PM - 1:45 PM - Luncheon Program&nbsp\;<br />\n&nbsp\;&nbsp\;&nbsp\;&nbsp\;&nbsp\; &nbsp\; 2:00 PM - 4:00 PM - 1:1 Networking Sessions and 10x10 Briefings<br />\n&nbsp\;&nbsp\;&nbsp\;&nbsp\;&nbsp\; &nbsp\; 4:00 PM - 4:45 PM - Advocacy Briefing<br />\n&nbsp\; &nbsp\; &nbsp\; &nbsp\; 6:00 PM to 8:30 PM - Tourism Excellence Awards Reception/Banquet<br />\n<br />\n<strong>Friday\, September 18\, 2026</strong><br />\n&nbsp\; &nbsp\;&nbsp\;&nbsp\; &nbsp\; 7:30 AM to 9:00 AM - Breakfast Program<br />\n&nbsp\;&nbsp\;&nbsp\;&nbsp\;&nbsp\; &nbsp\; 9:00 AM to 9:55 AM - Industry&nbsp\;Updates<br />\n&nbsp\;&nbsp\;&nbsp\;&nbsp\;&nbsp\; &nbsp\; 10:00 AM to 10:30&nbsp\;AM - Closing Remarks<br />\n&nbsp\;&nbsp\;&nbsp\;&nbsp\;&nbsp\; &nbsp\; 10:30 AM: Adjournment&nbsp\;<br />\n<span style="font-size: 12px\;">* subject to change</span></span></p>\n
LOCATION:Radisson Hotel Corning: 125 Denison Pkwy E\, Corning\, NY 14830 Conference Room Block Rates*: $155.00 pre-tax\, $173.60 with taxes *rate expires on August 8\, 2026 Booking Link
UID:e.9457.65
SEQUENCE:3
DTSTAMP:20260423T224852Z
URL:https://members.nystia.org/events/details/2026-new-york-state-tourism-summit-awards-65
END:VEVENT

END:VCALENDAR
